BEGIN:VCALENDAR
VERSION:2.0
PRODID:-//ChamberMaster//Event Calendar 2.0//EN
METHOD:PUBLISH
X-PUBLISHED-TTL:P3D
REFRESH-INTERVAL:P3D
CALSCALE:GREGORIAN
BEGIN:VEVENT
DTSTART;VALUE=DATE:20110616
DTEND;VALUE=DATE:20110617
TRANSP:TRANSPARENT
X-MICROSOFT-CDO-ALLDAYEVENT:TRUE
SUMMARY:Van's Barbecue Aces BBQ
DESCRIPTION:Starts at 5 p.m. until sold out.  The Rail at 212 Court St.\, Beatrice.  Chicken and pork ribs.
X-ALT-DESC;FMTTYPE=text/html:Starts at 5 p.m. until sold out.&nbsp\; The Rail at 212 Court St.\, Beatrice.&nbsp\; Chicken and pork ribs.
LOCATION:
UID:e.41.4882
SEQUENCE:3
DTSTAMP:20260424T165456Z
URL:https://business.beatricechamber.com/events/details/van-s-barbecue-aces-bbq-06-16-2011-4882
END:VEVENT

END:VCALENDAR
