BEGIN:VCALENDAR
VERSION:2.0
PRODID:-//ChamberMaster//Event Calendar 2.0//EN
METHOD:PUBLISH
X-PUBLISHED-TTL:P3D
REFRESH-INTERVAL:P3D
CALSCALE:GREGORIAN
BEGIN:VEVENT
DTSTART;VALUE=DATE:20110619
DTEND;VALUE=DATE:20110620
TRANSP:TRANSPARENT
X-MICROSOFT-CDO-ALLDAYEVENT:TRUE
SUMMARY:Van's Barbecue Aces BBQ
DESCRIPTION:Starts at 11:30 a.m. at Chautauqua Park tabernacle.
X-ALT-DESC;FMTTYPE=text/html:Starts at 11:30 a.m. at Chautauqua Park tabernacle.
LOCATION:
UID:e.41.4892
SEQUENCE:3
DTSTAMP:20260424T165456Z
URL:https://business.beatricechamber.com/events/details/van-s-barbecue-aces-bbq-06-19-2011-4892
END:VEVENT

END:VCALENDAR
