BEGIN:VCALENDAR
VERSION:2.0
PRODID:-//ChamberMaster//Event Calendar 2.0//EN
METHOD:PUBLISH
X-PUBLISHED-TTL:P3D
REFRESH-INTERVAL:P3D
CALSCALE:GREGORIAN
BEGIN:VEVENT
DTSTART;VALUE=DATE:20120503
DTEND;VALUE=DATE:20120504
TRANSP:TRANSPARENT
X-MICROSOFT-CDO-ALLDAYEVENT:TRUE
SUMMARY:Van's BBQ benefit to be held Sunday
DESCRIPTION:A Van's BBQ Chicken/Ribs benefit for CCFA (Crohn's & Colitis Foundation of America) is planned for Thursday\, May 3\, starting at 5 p.m. at The Rail\, 212 Court St.\, Beatrice. Meals will be available for $8 for dine-in or carryout.\n\n	Hosting the event is 14-year-old\, Jonathon Schleufer\, who has both diseases. All proceeds for the benefit stay in the local CCFA Chapter. Donations go towards seminars\, education and research to find a cure for these diseases.\n\n	For more information about CCFA\, go to www.cctakesteps.org or call Julie at 402-223-8104.
X-ALT-DESC;FMTTYPE=text/html:<p>\n	A Van&#39\;s&nbsp\;BBQ Chicken/Ribs benefit for CCFA (Crohn&#39\;s&nbsp\;&amp\; Colitis&nbsp\;Foundation of&nbsp\;America) is planned&nbsp\;for Thursday\, May 3\,&nbsp\;starting at 5&nbsp\;p.m. at&nbsp\;The Rail\, 212 Court St.\, Beatrice. Meals will&nbsp\;be available for&nbsp\;$8 for dine-in or carryout.</p>\n<p>\n	Hosting the event is&nbsp\;14-year-old\, Jonathon Schleufer\,&nbsp\;who has both diseases.&nbsp\;All proceeds&nbsp\;for the benefit&nbsp\;stay in the local&nbsp\;CCFA Chapter.&nbsp\;Donations go towards&nbsp\;seminars\, education and research to find a&nbsp\;cure for these diseases.<br />\n	For more information about CCFA\, go to <a href="http://www.cctakesteps">www.cctakesteps</a>.org&nbsp\;or call Julie&nbsp\;at 402-223-8104.</p>\n
LOCATION:
UID:e.41.5495
SEQUENCE:3
DTSTAMP:20260422T142558Z
URL:https://business.beatricechamber.com/events/details/van-s-bbq-benefit-to-be-held-sunday-05-03-2012-5495
END:VEVENT

END:VCALENDAR
