BEGIN:VCALENDAR
VERSION:2.0
PRODID:-//ChamberMaster//Event Calendar 2.0//EN
METHOD:PUBLISH
X-PUBLISHED-TTL:P3D
REFRESH-INTERVAL:P3D
CALSCALE:GREGORIAN
BEGIN:VEVENT
DTSTART;VALUE=DATE:20100422
DTEND;VALUE=DATE:20100423
TRANSP:TRANSPARENT
X-MICROSOFT-CDO-ALLDAYEVENT:TRUE
SUMMARY:Van's BBQ Chicken/Ribs Benefit for CCFA/Crohn's & Colitis Foundation
DESCRIPTION:Van's BBQ Chicken/Ribs Benefit forCCFA/Crohn's & Colitis Foundation of America 5 p.m.Thursday\, April 22The Rail\, 212 Court Street\, Beatrice $7 donation for dine-in or carry-out.  Sponsored by the family of Jonathon Schleufer\, an 11-year old with both diseases.
X-ALT-DESC;FMTTYPE=text/html:<div>Van's BBQ Chicken/Ribs Benefit for</div><div>CCFA/Crohn's &amp\;&nbsp\;Colitis Foundation of America</div><div>&nbsp\;</div><div>5 p.m.</div><div>Thursday\, April 22</div><div>The Rail\, 212 Court Street\, Beatrice</div><div>&nbsp\;</div><div>$7 donation for dine-in or carry-out.&nbsp\;</div><div>&nbsp\;</div><div>Sponsored by the family of Jonathon Schleufer\, an 11-year old with both diseases.</div>
LOCATION:
UID:e.41.1960
SEQUENCE:3
DTSTAMP:20260425T135606Z
URL:https://business.beatricechamber.com/events/details/van-s-bbq-chicken-ribs-benefit-for-ccfa-crohn-s-colitis-foundation-04-22-2010-1960
END:VEVENT

END:VCALENDAR
