BEGIN:VCALENDAR
VERSION:2.0
PRODID:-//ChamberMaster//Event Calendar 2.0//EN
METHOD:PUBLISH
X-PUBLISHED-TTL:P3D
REFRESH-INTERVAL:P3D
CALSCALE:GREGORIAN
BEGIN:VEVENT
DTSTART:20111110T220000Z
DTEND:20111111T010000Z
X-MICROSOFT-CDO-ALLDAYEVENT:FALSE
SUMMARY:Van's Chicken BBQ
DESCRIPTION:All proceeds will go to support Blue Valley Community Action Partnerships Annual Dollars for Difference Fundraiser. Tickets are available to purchase for prize drawing. Prizes include 50/50 cash drawing\,  Flat-screen 19 in. television\, as well as other locally donated items.
X-ALT-DESC;FMTTYPE=text/html:All proceeds will go to support Blue Valley Community Action Partnerships Annual Dollars for Difference Fundraiser. Tickets are available&nbsp\;to purchase for prize drawing. Prizes include 50/50 cash drawing\,&nbsp\;&nbsp\;Flat-screen 19 in. television\, as well as other locally donated items.
LOCATION:Wymore Community Center
UID:e.41.5192
SEQUENCE:3
DTSTAMP:20260424T095946Z
URL:https://business.beatricechamber.com/events/details/van-s-chicken-bbq-11-10-2011-5192
END:VEVENT

END:VCALENDAR
