BEGIN:VCALENDAR
VERSION:2.0
PRODID:-//ChamberMaster//Event Calendar 2.0//EN
METHOD:PUBLISH
X-PUBLISHED-TTL:P3D
REFRESH-INTERVAL:P3D
CALSCALE:GREGORIAN
BEGIN:VEVENT
DTSTART;VALUE=DATE:20120305
DTEND;VALUE=DATE:20120306
TRANSP:TRANSPARENT
X-MICROSOFT-CDO-ALLDAYEVENT:TRUE
SUMMARY:Vegetable production Seminar
DESCRIPTION:Hosted by the University of Nebraska-Lincoln Extension\, in cooperation with the Beatrice Groundwater Guardian Team. Free lunch included with the noon program. Topics include fertilization\, watering\, variety selection\, harvest\, storage\, and disease and insect control.\n\n	Registration required\; limited to the first 60 people.\n\n	Register by Feb 27.
X-ALT-DESC;FMTTYPE=text/html:<p>\n	Hosted by the University of Nebraska-Lincoln Extension\, in cooperation with the Beatrice Groundwater Guardian Team. Free lunch included with the noon program. Topics include fertilization\, watering\, variety selection\, harvest\, storage\, and disease and insect control.</p>\n<p>\n	Registration required\; limited to the first 60 people.</p>\n<p>\n	Register by Feb 27.<br />\n	&nbsp\;</p>\n
LOCATION:Two locations\; 12-:30 pm at Valentino's\, Seventh and Court\, Beatrice 5:30-6:30 pm at the Gage County Extension office\, 1115 W Scott st.\, Beatrice
UID:e.41.5384
SEQUENCE:3
DTSTAMP:20260422T172032Z
URL:https://business.beatricechamber.com/events/details/vegetable-production-seminar-03-05-2012-5384
END:VEVENT

END:VCALENDAR
