BEGIN:VCALENDAR
VERSION:2.0
PRODID:-//ChamberMaster//Event Calendar 2.0//EN
METHOD:PUBLISH
X-PUBLISHED-TTL:P3D
REFRESH-INTERVAL:P3D
CALSCALE:GREGORIAN
BEGIN:VEVENT
DTSTART:20110719T233000Z
DTEND:20110720T010000Z
X-MICROSOFT-CDO-ALLDAYEVENT:FALSE
SUMMARY:Vet Centers Readjustment Counseling and Outreach Service
DESCRIPTION:Southeast Community College-Beatrice campus\, Adams Hall Room 412 for veterans who served in any combat zone.  Services are available for their family members for military-related issues. \n\n\n\nDirector: Max R. Copenhaver\, 800-228-6838.  Veterans service officer in Gage County:  Phil Dittbrenner\, 402-223-1342.
X-ALT-DESC;FMTTYPE=text/html:Southeast Community College-Beatrice campus\, Adams Hall Room 412 for veterans who served in any combat zone.&nbsp\; Services are available for their family members for military-related issues.&nbsp\;<br />\n<br />\nDirector: Max R. Copenhaver\, 800-228-6838.&nbsp\; Veterans service officer in Gage County:&nbsp\; Phil Dittbrenner\, 402-223-1342.
LOCATION:
UID:e.41.4978
SEQUENCE:3
DTSTAMP:20260424T153451Z
URL:https://business.beatricechamber.com/events/details/vet-centers-readjustment-counseling-and-outreach-service-07-19-2011-4978
END:VEVENT

END:VCALENDAR
