BEGIN:VCALENDAR
VERSION:2.0
PRODID:-//ChamberMaster//Event Calendar 2.0//EN
METHOD:PUBLISH
X-PUBLISHED-TTL:P3D
REFRESH-INTERVAL:P3D
CALSCALE:GREGORIAN
BEGIN:VEVENT
DTSTART:20110816T233000Z
DTEND:20110817T010000Z
X-MICROSOFT-CDO-ALLDAYEVENT:FALSE
SUMMARY:Vet Centers Readjustment Counseling and Outreach Service
DESCRIPTION:6:30 p.m.-8 p.m.\, Southeast Community College-Beatrice campus\, Adams Hall\, Room 412 for veterans who served in any combat zone.  Services also available for their family members for military-related issues.\n\n\n\nDirector: Max R. Copenhaver\, 1-800-228-6838.  Veterans service officer in Gage County:  Phil Dittbrenner\, 402-223-1342.
X-ALT-DESC;FMTTYPE=text/html:6:30 p.m.-8 p.m.\, Southeast Community College-Beatrice campus\, Adams Hall\, Room 412 for veterans who served in any combat zone.&nbsp\; Services also available for their family members for military-related issues.<br />\n<br />\nDirector: Max R. Copenhaver\, 1-800-228-6838.&nbsp\; Veterans service officer in Gage County:&nbsp\; Phil Dittbrenner\, 402-223-1342.
LOCATION:
UID:e.41.5040
SEQUENCE:3
DTSTAMP:20260424T140938Z
URL:https://business.beatricechamber.com/events/details/vet-centers-readjustment-counseling-and-outreach-service-08-16-2011-5040
END:VEVENT

END:VCALENDAR
