BEGIN:VCALENDAR
VERSION:2.0
PRODID:-//ChamberMaster//Event Calendar 2.0//EN
METHOD:PUBLISH
X-PUBLISHED-TTL:P3D
REFRESH-INTERVAL:P3D
CALSCALE:GREGORIAN
BEGIN:VEVENT
DTSTART:20120329T190000Z
DTEND:20120329T200000Z
X-MICROSOFT-CDO-ALLDAYEVENT:FALSE
SUMMARY:Veterans Aid & Attendance Program
DESCRIPTION:The Homestead House (2300 Lincoln Street\, Beatrice) is hosting a Veterans Aid & Attendance presentation. If you are a Wartime Veteran or the Surviving Spouse of a Veteran and are in need of assisted living\, you may be entitled to a monthly income from the Veterans Administration.
X-ALT-DESC;FMTTYPE=text/html:The Homestead House (2300 Lincoln Street\, Beatrice) is hosting a Veterans Aid &amp\; Attendance presentation. If you are a Wartime Veteran or the Surviving Spouse of a Veteran and are in need of assisted living\, you may be entitled to a monthly income from the Veterans Administration. 
LOCATION:Homestead House 2300 Lincoln Street Beatrice
UID:e.41.5415
SEQUENCE:3
DTSTAMP:20260422T171726Z
URL:https://business.beatricechamber.com/events/details/veterans-aid-attendance-program-03-29-2012-5415
END:VEVENT

END:VCALENDAR
