BEGIN:VCALENDAR
VERSION:2.0
PRODID:-//ChamberMaster//Event Calendar 2.0//EN
METHOD:PUBLISH
X-PUBLISHED-TTL:P3D
REFRESH-INTERVAL:P3D
CALSCALE:GREGORIAN
BEGIN:VEVENT
DTSTART;VALUE=DATE:20111111
DTEND;VALUE=DATE:20111114
TRANSP:TRANSPARENT
X-MICROSOFT-CDO-ALLDAYEVENT:TRUE
SUMMARY:Veterans Day (area) Observances
DESCRIPTION:2011 Veterans Day Observances\n\n\n\nBEATRICE:\n\nFriday\, November 11\n\n10 am: Hevelone Center for Performing Arts\, Beatrice.  Program sponsored by Gage County Veterans Service Office and local veterans organizations.\n\n\n\n\n\nVIRGINIA:\n\nFriday\, November 11\n\n9 am: Community and school Veterans Day program - Lewiston Consolidated Schools\; Community open house\; Refreshments provided\n\n10 am: Veterans Day program\n\n\n\n\n\nWYMORE:\n\nFriday\, November 11\n\n11 am:  Veterans Day program at Southern High School auditorium\, 115 S 11th St.\, Wymore\n\n\n\n\n\nPLYMOUTH:\n\nSaturday\, November 12\n\n10:45 am: 65th consecutive observance begins at Plymouth Community Center\n\n11:30 am: Ceremony continues inside Plymouth Community Center\n\n\n\n\n\nCORTLAND:\n\nSunday\, November 13\n\n11 am - 1 pm: Annual Veterans Day Dinner\, Cortland Community Center
X-ALT-DESC;FMTTYPE=text/html:2011 Veterans Day Observances<br />\n<br />\nBEATRICE:<br />\nFriday\, November 11<br />\n10 am: Hevelone Center for Performing Arts\, Beatrice.&nbsp\; Program sponsored by Gage County Veterans Service Office and local veterans organizations.<br />\n<br />\n<br />\nVIRGINIA:<br />\nFriday\, November 11<br />\n9 am: Community and school Veterans Day program - Lewiston Consolidated Schools\; Community open house\; Refreshments provided<br />\n10 am: Veterans Day program<br />\n<br />\n<br />\nWYMORE:<br />\nFriday\, November 11<br />\n11 am:&nbsp\; Veterans Day program at Southern High School auditorium\, 115 S 11th St.\, Wymore<br />\n<br />\n<br />\nPLYMOUTH:<br />\nSaturday\, November 12<br />\n10:45 am: 65th consecutive observance begins at Plymouth Community Center<br />\n11:30 am: Ceremony continues inside Plymouth Community Center<br />\n<br />\n<br />\nCORTLAND:<br />\nSunday\, November 13<br />\n11 am - 1 pm: Annual Veterans Day Dinner\, Cortland Community Center<br />\n
LOCATION:
UID:e.41.5238
SEQUENCE:3
DTSTAMP:20260424T100047Z
URL:https://business.beatricechamber.com/events/details/veterans-day-area-observances-11-11-2011-5238
END:VEVENT

END:VCALENDAR
