BEGIN:VCALENDAR
VERSION:2.0
PRODID:-//ChamberMaster//Event Calendar 2.0//EN
METHOD:PUBLISH
X-PUBLISHED-TTL:P3D
REFRESH-INTERVAL:P3D
CALSCALE:GREGORIAN
BEGIN:VEVENT
DTSTART;VALUE=DATE:20120701
DTEND;VALUE=DATE:20120702
TRANSP:TRANSPARENT
X-MICROSOFT-CDO-ALLDAYEVENT:TRUE
SUMMARY:Vets Service at Veterans Memorial Park
DESCRIPTION:AseraCare Hospice will be hosting a service for veterans and the community at 6 pm on July 1 at Veterans Memorial Park in Beatrice.\n\n\n\n"Peace at Last" service will be led by AseraCare Hospice Spiritual Coordinators\, Doyle Karst and Sharon Schuster. \n\n\n\nThe Community is invited to attend this special service and to bring lawn chairs.
X-ALT-DESC;FMTTYPE=text/html:AseraCare&nbsp\;Hospice will be hosting a service for veterans&nbsp\;and the community at 6 pm&nbsp\;on July 1 at&nbsp\;Veterans Memorial Park in Beatrice.<br />\n<br />\n&quot\;Peace at Last&quot\; service will be led by AseraCare Hospice&nbsp\;Spiritual Coordinators\, Doyle Karst and&nbsp\;Sharon Schuster.&nbsp\;<br />\n<br />\nThe Community is invited to attend this special service and to bring lawn chairs.
LOCATION:
UID:e.41.5733
SEQUENCE:3
DTSTAMP:20260422T113909Z
URL:https://business.beatricechamber.com/events/details/vets-service-at-veterans-memorial-park-07-01-2012-5733
END:VEVENT

END:VCALENDAR
