BEGIN:VCALENDAR
VERSION:2.0
PRODID:-//ChamberMaster//Event Calendar 2.0//EN
METHOD:PUBLISH
X-PUBLISHED-TTL:P3D
REFRESH-INTERVAL:P3D
CALSCALE:GREGORIAN
BEGIN:VEVENT
DTSTART;VALUE=DATE:20120201
DTEND;VALUE=DATE:20120202
TRANSP:TRANSPARENT
X-MICROSOFT-CDO-ALLDAYEVENT:TRUE
SUMMARY:VFW Auxiliary Spaghetti Supper
DESCRIPTION:VFW Auxiliary Spaghetti Supper\n\n\n\nWednesday\, February 1\n\n5:30 - 7:30 pm\n\n\n\nNew Location:  American Legion Club\, 701 Dorsey Street\, Beatrice\n\n\n\nSpaghetti\, salads and desserts.  $7 per person.  Proceeds for veteran\, troop and youth programs.
X-ALT-DESC;FMTTYPE=text/html:VFW Auxiliary Spaghetti Supper<br />\n<br />\nWednesday\, February 1<br />\n5:30 - 7:30 pm<br />\n<br />\nNew Location:&nbsp\; American Legion Club\, 701 Dorsey Street\, Beatrice<br />\n<br />\nSpaghetti\, salads and desserts.&nbsp\; $7 per person.&nbsp\; Proceeds for veteran\, troop and youth programs.
LOCATION:
UID:e.41.5290
SEQUENCE:3
DTSTAMP:20260422T185320Z
URL:https://business.beatricechamber.com/events/details/vfw-auxiliary-spaghetti-supper-02-01-2012-5290
END:VEVENT

END:VCALENDAR
