BEGIN:VCALENDAR
VERSION:2.0
PRODID:-//ChamberMaster//Event Calendar 2.0//EN
METHOD:PUBLISH
X-PUBLISHED-TTL:P3D
REFRESH-INTERVAL:P3D
CALSCALE:GREGORIAN
BEGIN:VEVENT
DTSTART:20120321T223000Z
DTEND:20120322T003000Z
X-MICROSOFT-CDO-ALLDAYEVENT:FALSE
SUMMARY:VFW Auxiliary Spaghetti Supper
DESCRIPTION:VFW Auxiliary Spaghetti Supper\n\n\n\nWednesday\, March 21\n\n5:30 - 7:30 pm\n\n\n\nAmerican Legion Post\, 701 Dorsey Street\n\nBeatrice\n\n\n\nSpaghetti\, salad dessert\; meatless sauce will be available
X-ALT-DESC;FMTTYPE=text/html:VFW Auxiliary Spaghetti Supper<br />\n<br />\nWednesday\, March 21<br />\n5:30 - 7:30 pm<br />\n<br />\nAmerican Legion Post\, 701 Dorsey Street<br />\nBeatrice<br />\n<br />\nSpaghetti\, salad dessert\; meatless sauce will be available
LOCATION:
UID:e.41.5426
SEQUENCE:3
DTSTAMP:20260422T172827Z
URL:https://business.beatricechamber.com/events/details/vfw-auxiliary-spaghetti-supper-03-21-2012-5426
END:VEVENT

END:VCALENDAR
