BEGIN:VCALENDAR
VERSION:2.0
PRODID:-//ChamberMaster//Event Calendar 2.0//EN
METHOD:PUBLISH
X-PUBLISHED-TTL:P3D
REFRESH-INTERVAL:P3D
CALSCALE:GREGORIAN
BEGIN:VEVENT
DTSTART;VALUE=DATE:20100203
DTEND;VALUE=DATE:20100204
TRANSP:TRANSPARENT
X-MICROSOFT-CDO-ALLDAYEVENT:TRUE
SUMMARY:VFW Auxillary Spaghetti Feed
DESCRIPTION:VFW Auxiliary Spaghetti Feed Wednesday\, February 3\, 20105:30 p.m. - 7:30 p.m. VFW Club124 S 23rd StBeatrice\, NE
X-ALT-DESC;FMTTYPE=text/html:<div><span style="font-size: small">VFW&nbsp\;Auxiliary Spaghetti Feed</span></div><div>&nbsp\;</div><div><span style="font-size: small">Wednesday\, February 3\, 2010</span></div><div><span style="font-size: small">5:30 p.m. - 7:30 p.m.</span></div><div>&nbsp\;</div><div><span style="font-size: small">VFW&nbsp\;Club</span></div><div><span style="font-size: small">124 S 23rd St</span></div><div><span style="font-size: small">Beatrice\, NE</span></div>
LOCATION:
UID:e.41.1616
SEQUENCE:3
DTSTAMP:20260425T165256Z
URL:https://business.beatricechamber.com/events/details/vfw-auxillary-spaghetti-feed-02-03-2010-1616
END:VEVENT

END:VCALENDAR
