BEGIN:VCALENDAR
VERSION:2.0
PRODID:-//ChamberMaster//Event Calendar 2.0//EN
METHOD:PUBLISH
X-PUBLISHED-TTL:P3D
REFRESH-INTERVAL:P3D
CALSCALE:GREGORIAN
BEGIN:VEVENT
DTSTART;VALUE=DATE:20120502
DTEND;VALUE=DATE:20120503
TRANSP:TRANSPARENT
X-MICROSOFT-CDO-ALLDAYEVENT:TRUE
SUMMARY:VFW Auxillary to host spaghetti supper
DESCRIPTION:The VFW Auxiliary will host a spaghetti supper from 5:30 to 7:30 p.m. Wednesday\, May\, 2\, at the Legion Club\, 701 Dorsey St.\n\nProceeds will be used for scholarships\, veterans and troops\, and community activities.
X-ALT-DESC;FMTTYPE=text/html:The VFW Auxiliary will&nbsp\;host a spaghetti supper&nbsp\;from&nbsp\;5:30&nbsp\;to 7:30 p.m. Wednesday\, May\, 2\, at the&nbsp\;Legion Club\,&nbsp\;701 Dorsey St.<br />\nProceeds&nbsp\;will be&nbsp\;used for scholarships\, veterans and&nbsp\;troops\, and community activities.
LOCATION:
UID:e.41.5490
SEQUENCE:3
DTSTAMP:20260422T142543Z
URL:https://business.beatricechamber.com/events/details/vfw-auxillary-to-host-spaghetti-supper-05-02-2012-5490
END:VEVENT

END:VCALENDAR
