BEGIN:VCALENDAR
VERSION:2.0
PRODID:-//ChamberMaster//Event Calendar 2.0//EN
METHOD:PUBLISH
X-PUBLISHED-TTL:P3D
REFRESH-INTERVAL:P3D
CALSCALE:GREGORIAN
BEGIN:VEVENT
DTSTART:20110417T140000Z
DTEND:20110417T173000Z
X-MICROSOFT-CDO-ALLDAYEVENT:FALSE
SUMMARY:VFW Breakfast
DESCRIPTION:VFW Breakfast\n\n\n\nSunday April 17\n\n9 am - 12:30 pm\n\n\n\nBeatrice VFW Post 1077
X-ALT-DESC;FMTTYPE=text/html:VFW Breakfast<br />\n<br />\nSunday April 17<br />\n9 am - 12:30 pm<br />\n<br />\nBeatrice VFW Post 1077
LOCATION:
UID:e.41.4590
SEQUENCE:3
DTSTAMP:20260424T195014Z
URL:https://business.beatricechamber.com/events/details/vfw-breakfast-04-17-2011-4590
END:VEVENT

END:VCALENDAR
