BEGIN:VCALENDAR
VERSION:2.0
PRODID:-//ChamberMaster//Event Calendar 2.0//EN
METHOD:PUBLISH
X-PUBLISHED-TTL:P3D
REFRESH-INTERVAL:P3D
CALSCALE:GREGORIAN
BEGIN:VEVENT
DTSTART:20101113T000000Z
DTEND:20101113T020000Z
X-MICROSOFT-CDO-ALLDAYEVENT:FALSE
SUMMARY:VFW Fish Fry & Dance
DESCRIPTION:Fish Fry & Dance\n\n\n\n6-8 pm Crete VFW\, Crete\n\n\n\nCountry western music band & dance
X-ALT-DESC;FMTTYPE=text/html:<strong><span style="font-size: 14px">Fish Fry &amp\; Dance</span></strong><br />\n<br />\n6-8 pm Crete VFW\, Crete<br />\n<br />\nCountry western music band &amp\; dance
LOCATION:
UID:e.41.2796
SEQUENCE:3
DTSTAMP:20260425T032647Z
URL:https://business.beatricechamber.com/events/details/vfw-fish-fry-dance-11-12-2010-2796
END:VEVENT

END:VCALENDAR
