BEGIN:VCALENDAR
VERSION:2.0
PRODID:-//ChamberMaster//Event Calendar 2.0//EN
METHOD:PUBLISH
X-PUBLISHED-TTL:P3D
REFRESH-INTERVAL:P3D
CALSCALE:GREGORIAN
BEGIN:VEVENT
DTSTART:20101127T000000Z
DTEND:20101127T020000Z
X-MICROSOFT-CDO-ALLDAYEVENT:FALSE
SUMMARY:VFW Fish Fry & Dance
DESCRIPTION:Fish Fry & Dance\n\n\n\n6-8 pm. Crete VFW\, Crete.\n\n\n\nCountry western music band and dance
X-ALT-DESC;FMTTYPE=text/html:<strong><span style="font-size: 14px">Fish Fry &amp\; Dance</span></strong><br />\n<br />\n6-8 pm. Crete VFW\, Crete.<br />\n<br />\nCountry western music band and dance
LOCATION:
UID:e.41.2801
SEQUENCE:3
DTSTAMP:20260425T032739Z
URL:https://business.beatricechamber.com/events/details/vfw-fish-fry-dance-11-26-2010-2801
END:VEVENT

END:VCALENDAR
