BEGIN:VCALENDAR
VERSION:2.0
PRODID:-//ChamberMaster//Event Calendar 2.0//EN
METHOD:PUBLISH
X-PUBLISHED-TTL:P3D
REFRESH-INTERVAL:P3D
CALSCALE:GREGORIAN
BEGIN:VEVENT
DTSTART;VALUE=DATE:20100606
DTEND;VALUE=DATE:20100607
TRANSP:TRANSPARENT
X-MICROSOFT-CDO-ALLDAYEVENT:TRUE
SUMMARY:VFW Golf Scramble
DESCRIPTION:Veterans of Foreign Wars Post 10772nd Annual 4 - Person Scramble Golf TournamentSunday\, June 6 Entry fee $140 per team.  Carts are not included\, but are available for $30 upon request.  Individuals do not have to be a VFW member to participate.  Tournament field will be limited to the first 24 teams to register.  To register\, contact Tim Fralin at 402-520-1379 or the Wymore Country Club at 402-645-9904.
X-ALT-DESC;FMTTYPE=text/html:<div>Veterans of Foreign Wars Post 1077</div><div>2nd Annual</div><div>&nbsp\;</div><div>4 - Person Scramble Golf Tournament</div><div>Sunday\, June 6</div><div>&nbsp\;</div><div>Entry fee $140 per team.&nbsp\; Carts are not included\, but are available for $30 upon request.&nbsp\; Individuals do not have to be a VFW member to participate.&nbsp\;</div><div>&nbsp\;</div><div>Tournament field will be limited to the first 24 teams to register.&nbsp\; To register\, contact Tim Fralin at 402-520-1379 or the Wymore Country Club at 402-645-9904.</div>
LOCATION:
UID:e.41.1964
SEQUENCE:3
DTSTAMP:20260425T105250Z
URL:https://business.beatricechamber.com/events/details/vfw-golf-scramble-06-06-2010-1964
END:VEVENT

END:VCALENDAR
