BEGIN:VCALENDAR
VERSION:2.0
PRODID:-//ChamberMaster//Event Calendar 2.0//EN
METHOD:PUBLISH
X-PUBLISHED-TTL:P3D
REFRESH-INTERVAL:P3D
CALSCALE:GREGORIAN
BEGIN:VEVENT
DTSTART:20091029T230000Z
DTEND:20091101T030000Z
X-MICROSOFT-CDO-ALLDAYEVENT:FALSE
SUMMARY:VFW Haunted House
DESCRIPTION:Are you ready to be Scared?!?!?VFW Haunted House is BIGGER and SCARIER than ever!!! Join us if you dare....Thursday\, Friday & SaturdayOctober 29\, 30 & 31Thursday Night 6:00 pm - 10:00 pmFriday & Saturday Night 6:00 pm - ??? pm Admission $5 per Person plus a can of food for the Community Food PantryVFW Club Post 1077124 S 23rd Street228-9993
X-ALT-DESC;FMTTYPE=text/html:<div><span style="font-size: small"><span style="font-family: Verdana"><strong>Are you ready to be Scared?!?!?</strong></span></span></div><div><strong>VFW Haunted House is BIGGER and SCARIER than ever!!!</strong></div><div>&nbsp\;</div><div>Join us if you dare....</div><div>Thursday\, Friday &amp\; Saturday</div><div>October 29\, 30 &amp\; 31</div><div>Thursday Night 6:00 pm - 10:00 pm</div><div>Friday &amp\; Saturday Night 6:00 pm - ??? pm</div><div>&nbsp\;</div><div>Admission $5 per Person plus a can of food for the&nbsp\;Community Food Pantry</div><div>VFW Club Post 1077</div><div>124 S 23rd Street</div><div>228-9993</div>
LOCATION:
UID:e.41.1505
SEQUENCE:3
DTSTAMP:20260425T221304Z
URL:https://business.beatricechamber.com/events/details/vfw-haunted-house-10-29-2009-1505
END:VEVENT

END:VCALENDAR
