BEGIN:VCALENDAR
VERSION:2.0
PRODID:-//ChamberMaster//Event Calendar 2.0//EN
METHOD:PUBLISH
X-PUBLISHED-TTL:P3D
REFRESH-INTERVAL:P3D
CALSCALE:GREGORIAN
BEGIN:VEVENT
DTSTART:20110803T223000Z
DTEND:20110804T003000Z
X-MICROSOFT-CDO-ALLDAYEVENT:FALSE
SUMMARY:VFW Post 1077 Auxillary Spaghetti Feed
DESCRIPTION:5:30-7:30 p.m.\, 124 S. 23rd St.\, Beatrice.  Homemade salads and desserts.
X-ALT-DESC;FMTTYPE=text/html:5:30-7:30 p.m.\, 124 S. 23rd St.\, Beatrice.&nbsp\; Homemade salads and desserts.
LOCATION:
UID:e.41.5018
SEQUENCE:3
DTSTAMP:20260424T134413Z
URL:https://business.beatricechamber.com/events/details/vfw-post-1077-auxillary-spaghetti-feed-08-03-2011-5018
END:VEVENT

END:VCALENDAR
