BEGIN:VCALENDAR
VERSION:2.0
PRODID:-//ChamberMaster//Event Calendar 2.0//EN
METHOD:PUBLISH
X-PUBLISHED-TTL:P3D
REFRESH-INTERVAL:P3D
CALSCALE:GREGORIAN
BEGIN:VEVENT
DTSTART:20090725T140000Z
DTEND:20090725T190000Z
X-MICROSOFT-CDO-ALLDAYEVENT:FALSE
SUMMARY:VFW Post 1077 Golf Tournament - Wymore
DESCRIPTION:VFW Post 1077 - WYmore Annual Golf TournamentWymore Country Club9:00 amJuly 25\, 2009 Registration for 4-person scramble will start at 8 am with shotgun start at 9 am$160 per team with range balls and cart providedParticipation limited to first 24 teams.  Golfers do not have to be VFW members to participate. For more information\, contact Tim Fralin 520-1379 ortfralin@charter.net
X-ALT-DESC;FMTTYPE=text/html:<div><div>VFW&nbsp\;Post 1077 - WYmore Annual Golf Tournament</div><div>Wymore Country Club</div><div>9:00 am</div><div>July 25\, 2009</div><div>&nbsp\;</div><div>Registration for 4-person scramble will start at 8 am with shotgun start at 9 am</div><div>$160 per team with range balls and cart provided</div><div>Participation limited to first 24 teams.&nbsp\; Golfers do not have to be VFW members to participate.</div><div>&nbsp\;</div><div>For more information\, contact Tim Fralin 520-1379 or</div><div><a href="mailto:tfralin@charter.net">tfralin@charter.net</a></div></div>
LOCATION:
UID:e.41.1279
SEQUENCE:3
DTSTAMP:20260426T030241Z
URL:https://business.beatricechamber.com/events/details/vfw-post-1077-golf-tournament-wymore-07-25-2009-1279
END:VEVENT

END:VCALENDAR
