BEGIN:VCALENDAR
VERSION:2.0
PRODID:-//ChamberMaster//Event Calendar 2.0//EN
METHOD:PUBLISH
X-PUBLISHED-TTL:P3D
REFRESH-INTERVAL:P3D
CALSCALE:GREGORIAN
BEGIN:VEVENT
DTSTART:20100602T223000Z
DTEND:20100603T003000Z
X-MICROSOFT-CDO-ALLDAYEVENT:FALSE
SUMMARY:VFW Spaghetti Feed
DESCRIPTION:Spaghetti Feedhosted by VFW Post 1077 Auxiliary124 S 23rd Street\, Beatrice Wednesday\, June 2\, 20105:30 - 7:30 p.m. $7 meal\, includes homemade salads and deserts.
X-ALT-DESC;FMTTYPE=text/html:<div><span style="font-size: small">Spaghetti Feed</span></div><div><span style="font-size: small">hosted by VFW Post 1077 Auxiliary</span></div><div><span style="font-size: small">124 S 23rd Street\, Beatrice</span></div><div>&nbsp\;</div><div><span style="font-size: small">Wednesday\, June 2\, 2010</span></div><div><span style="font-size: small">5:30 - 7:30 p.m.</span></div><div>&nbsp\;</div><div><span style="font-size: small">$7 meal\, includes homemade salads and deserts.</span></div>
LOCATION:
UID:e.41.2020
SEQUENCE:3
DTSTAMP:20260425T105214Z
URL:https://business.beatricechamber.com/events/details/vfw-spaghetti-feed-06-02-2010-2020
END:VEVENT

END:VCALENDAR
