BEGIN:VCALENDAR
VERSION:2.0
PRODID:-//ChamberMaster//Event Calendar 2.0//EN
METHOD:PUBLISH
X-PUBLISHED-TTL:P3D
REFRESH-INTERVAL:P3D
CALSCALE:GREGORIAN
BEGIN:VEVENT
DTSTART:20110907T223000Z
DTEND:20110908T003000Z
X-MICROSOFT-CDO-ALLDAYEVENT:FALSE
SUMMARY:VFW Spaghetti Feed
DESCRIPTION:The VFW Post 1077 Auxiliary is hosting a spaghetti feed from 5:30 p.m.-7:30 p.m. at the post home\, 124 S. 23rd St.\, Beatrice.  The meal includes salads and desserts.  The public is invited.\n\n\n\nProceeds from this month's basket raffle will be donated to the family of Gracie Schultz to assist with medical expenses.
X-ALT-DESC;FMTTYPE=text/html:The VFW Post 1077 Auxiliary is hosting a spaghetti feed from 5:30 p.m.-7:30 p.m. at the post home\, 124 S. 23rd St.\, Beatrice.&nbsp\; The meal includes salads and desserts.&nbsp\; The public is invited.<br />\n<br />\nProceeds from this month&#39\;s basket raffle will be donated to the family of Gracie Schultz to assist with medical expenses.
LOCATION:
UID:e.41.5088
SEQUENCE:3
DTSTAMP:20260424T122825Z
URL:https://business.beatricechamber.com/events/details/vfw-spaghetti-feed-09-07-2011-5088
END:VEVENT

END:VCALENDAR
