BEGIN:VCALENDAR
VERSION:2.0
PRODID:-//ChamberMaster//Event Calendar 2.0//EN
METHOD:PUBLISH
X-PUBLISHED-TTL:P3D
REFRESH-INTERVAL:P3D
CALSCALE:GREGORIAN
BEGIN:VEVENT
DTSTART:20091007T223000Z
DTEND:20091008T003000Z
X-MICROSOFT-CDO-ALLDAYEVENT:FALSE
SUMMARY:VFW Spaghetti Feed - Auxiliary
DESCRIPTION:Beatrice VFW Post 1077 Auxiliary is hosting a Spaghetti Feedon Wednesday\, October 7that the VFW Club\, 124 S 23rd St5:30 pm - 7:30 pm Participants are encouraged to bring a can of food to donateto the Beatrice Food Pantry. Receive a free raffle ticket for the October Gift Basket
X-ALT-DESC;FMTTYPE=text/html:<div><strong>Beatrice VFW Post 1077 Auxiliary </strong></div><div><strong>is hosting a Spaghetti Feed</strong></div><div>on Wednesday\, October 7th</div><div>at the VFW Club\, 124 S 23rd St</div><div>5:30 pm - 7:30 pm</div><div>&nbsp\;</div><div>Participants are encouraged to bring a can of food to donate</div><div>to the Beatrice Food Pantry.&nbsp\;</div><div>Receive a free raffle ticket for the October Gift Basket</div>
LOCATION:
UID:e.41.1475
SEQUENCE:3
DTSTAMP:20260425T221223Z
URL:https://business.beatricechamber.com/events/details/vfw-spaghetti-feed-auxiliary-10-07-2009-1475
END:VEVENT

END:VCALENDAR
