BEGIN:VCALENDAR
VERSION:2.0
PRODID:-//ChamberMaster//Event Calendar 2.0//EN
METHOD:PUBLISH
X-PUBLISHED-TTL:P3D
REFRESH-INTERVAL:P3D
CALSCALE:GREGORIAN
BEGIN:VEVENT
DTSTART:20120801T223000Z
DTEND:20120802T000000Z
X-MICROSOFT-CDO-ALLDAYEVENT:FALSE
SUMMARY:VFW to host Spaghetti Supper
DESCRIPTION:The Veterans of Foreign Wars Auxiliary will host a Spaghetti Supper at the Legion Club\, 701 Dorsey\, Beatrice. Proceeds are used for veterans\, troop\, and community programs\, and scholarships. The event is open to the public.
X-ALT-DESC;FMTTYPE=text/html:The Veterans of Foreign Wars Auxiliary will host a Spaghetti Supper at the Legion Club\, 701 Dorsey\, Beatrice. Proceeds are used for veterans\, troop\, and community programs\, and scholarships. The event is open to the public.
LOCATION:
UID:e.41.6332
SEQUENCE:3
DTSTAMP:20260422T100443Z
URL:https://business.beatricechamber.com/events/details/vfw-to-host-spaghetti-supper-08-01-2012-6332
END:VEVENT

END:VCALENDAR
