BEGIN:VCALENDAR
VERSION:2.0
PRODID:-//ChamberMaster//Event Calendar 2.0//EN
METHOD:PUBLISH
X-PUBLISHED-TTL:P3D
REFRESH-INTERVAL:P3D
CALSCALE:GREGORIAN
BEGIN:VEVENT
DTSTART:20101113T180000Z
DTEND:20101113T180000Z
X-MICROSOFT-CDO-ALLDAYEVENT:FALSE
SUMMARY:Victorian Christmas Celebration
DESCRIPTION:Victorian Christmas Celebration\n\nTake a break for the hectic holidays and relax at Yesterday's Lady. Learn Christmas traditions we do today that started during the Victorian time period. We will discuss the fashions from the era\, history of the feather tree\, sleigh bells\, gift giving and finish the afternoon making a Victorian Christmas ornament. Make the day more fun\, register with a friend.\n\nTuition includes workshop\, ornament supplies and refreshments. Class will be held at Yesterday's Lady\, 113 N. 5th St.\, Beatrice.\n\nPre-Registration is Required
X-ALT-DESC;FMTTYPE=text/html:Victorian Christmas Celebration\n<br>Take a break for the hectic holidays and relax at Yesterday's Lady. Learn Christmas traditions we do today that started during the Victorian time period. We will discuss the fashions from the era\, history of the feather tree\, sleigh bells\, gift giving and finish the afternoon making a Victorian Christmas ornament. Make the day more fun\, register with a friend.\n<br>Tuition includes workshop\, ornament supplies and refreshments. Class will be held at Yesterday's Lady\, 113 N. 5th St.\, Beatrice.\n<br>Pre-Registration is Required
LOCATION:Yesterday's Lady in Beatrice
UID:e.41.2639
SEQUENCE:3
DTSTAMP:20260425T032509Z
URL:https://business.beatricechamber.com/events/details/victorian-christmas-celebration-11-13-2010-2639
END:VEVENT

END:VCALENDAR
