BEGIN:VCALENDAR
VERSION:2.0
PRODID:-//ChamberMaster//Event Calendar 2.0//EN
METHOD:PUBLISH
X-PUBLISHED-TTL:P3D
REFRESH-INTERVAL:P3D
CALSCALE:GREGORIAN
BEGIN:VEVENT
DTSTART:20110126T233000Z
DTEND:20110126T233000Z
X-MICROSOFT-CDO-ALLDAYEVENT:FALSE
SUMMARY:Volunteer Appreciation Meal
DESCRIPTION:Volunteer Appreciation Meal:\n\n\n\nJan 26-5:30\,\n\n\n\nLocation not yet determined\n\nFree Meal provided by the OACE officers.\n\n\n\nIf you have anyone that you wish to nominate for the following:\n\n\n\nVolunteer of the Year\, Lifetime Achievement or Student Volunteer of the Year\, please send your nomination and why you are nominating them to:\n\n\n\noace@diodecom.net
X-ALT-DESC;FMTTYPE=text/html:<strong><span style="font-size: 14px\;">Volunteer Appreciation Meal:</span></strong><br />\n<br />\nJan 26-5:30\,<br />\n<br />\nLocation not yet determined<br />\nFree Meal provided by the OACE officers.<br />\n<br />\nIf you have anyone that you wish to nominate for the following:<br />\n<br />\nVolunteer of the Year\, Lifetime Achievement or Student Volunteer of the Year\, please send your nomination and why you are nominating them to:<br />\n<br />\noace@diodecom.net<br />\n
LOCATION:
UID:e.41.2881
SEQUENCE:3
DTSTAMP:20260425T003448Z
URL:https://business.beatricechamber.com/events/details/volunteer-appreciation-meal-01-26-2011-2881
END:VEVENT

END:VCALENDAR
