BEGIN:VCALENDAR
VERSION:2.0
PRODID:-//ChamberMaster//Event Calendar 2.0//EN
METHOD:PUBLISH
X-PUBLISHED-TTL:P3D
REFRESH-INTERVAL:P3D
CALSCALE:GREGORIAN
BEGIN:VEVENT
DTSTART;VALUE=DATE:20120310
DTEND;VALUE=DATE:20120311
TRANSP:TRANSPARENT
X-MICROSOFT-CDO-ALLDAYEVENT:TRUE
SUMMARY:Volunteer Speed Dating with Community Players
DESCRIPTION:Volunteer Speed Dating\n\n\n\nBeatrice Community Players\n\n412 Ella\, Beatrice\, NE\n\n\n\nSaturday\, March 10\n\n1 pm - 4 pm\n\n\n\n\n	Ever wonder what it takes to actually put on a show? How about what a set looks like from the actor's side of the stage? Ever thought about getting involved with Community Players\, but just didn't know how?\n\n	\n\n	The answers to all this and more are just waiting for you at C...ommunity Players' 2012 Volunteer Drive Event\, Saturday\, March 10. Things start at 1 p.m. and go until 4 p.m.\n\n	\n\n	YOU DON'T HAVE TO COME AT THE BEGINNING OR STAY UNTIL 4:00. This event is designed to allow you to mingle with various stations around the theatre and learn what it takes to put on a show and how you can get involved.\n\n	\n\n	IT'S KIND OF LIKE SPEED DATING FOR VOLUNTEERS!\n\n	\n\n	Get your card stamped at each station and you can win fabulous prizes (well maybe not fabulous\, but prizes at least). There's no obligation to volunteer\, but we know once you hear about the fun we have a CP\, you'll be chomping at the bit to be involved!\n\n	\n\n	SPECIAL ANNOUNCEMENT: At 2:00 we'll be making a special announcement about youth and educational programs at the theatre. Be the first to hear this exciting news!
X-ALT-DESC;FMTTYPE=text/html:Volunteer Speed Dating<br />\n<br />\nBeatrice Community Players<br />\n412 Ella\, Beatrice\, NE<br />\n<br />\nSaturday\, March 10<br />\n1 pm - 4 pm<br />\n<br />\n<div class="text_exposed_root text_exposed" id="id_4f50e9e9680e33b73098397">\n	Ever wonder what it takes to actually put on a show? How about what a set looks like from the actor&#39\;s side of the stage? Ever thought about getting involved with Community Players\, but just didn&#39\;t know how?<br />\n	<br />\n	The answers to all this and more are just waiting for you at C<span class="text_exposed_hide">...</span><span class="text_exposed_show">ommunity Players&#39\; 2012 Volunteer Drive Event\, Saturday\, March 10. Things start at 1 p.m. and go until 4 p.m.<br />\n	<br />\n	YOU DON&#39\;T HAVE TO COME AT THE BEGINNING OR STAY UNTIL 4:00. This event is designed to allow you to mingle with various stations around the theatre and learn what it takes to put on a show and how you can get involved.<br />\n	<br />\n	IT&#39\;S KIND OF LIKE SPEED DATING FOR VOLUNTEERS!<br />\n	<br />\n	Get your card stamped at each station and you can win fabulous prizes (well maybe not fabulous\, but prizes at least). There&#39\;s no obligation to volunteer\, but we know once you hear about the fun we have a CP\, you&#39\;ll be chomping at the bit to be involved!<br />\n	<br />\n	SPECIAL ANNOUNCEMENT: At 2:00 we&#39\;ll be making a special announcement about youth and educational programs at the theatre. Be the first to hear this exciting news!<span _fck_bookmark="1" style="display: none">&nbsp\;</span></span></div>\n
LOCATION:
UID:e.41.5382
SEQUENCE:3
DTSTAMP:20260422T173541Z
URL:https://business.beatricechamber.com/events/details/volunteer-speed-dating-with-community-players-03-10-2012-5382
END:VEVENT

END:VCALENDAR
