BEGIN:VCALENDAR
VERSION:2.0
PRODID:-//ChamberMaster//Event Calendar 2.0//EN
METHOD:PUBLISH
X-PUBLISHED-TTL:P3D
REFRESH-INTERVAL:P3D
CALSCALE:GREGORIAN
BEGIN:VEVENT
DTSTART;VALUE=DATE:20110107
DTEND;VALUE=DATE:20110108
TRANSP:TRANSPARENT
X-MICROSOFT-CDO-ALLDAYEVENT:TRUE
SUMMARY:Waffleman & All-You-Can-Eat Waffles!
DESCRIPTION:The Waffleman at Beatrice High School\n\n\n\nFriday\, January 7\n\n4:30 - 7:30 p.m.\n\n\n\nTickets are $6 and can be purchased from any BHS winter or spring sports athlete.  Tickets will also be sold at the door.\n\n\n\nMeal includes waffles\, sausage\, whipped cream & a choice of five different syrups.\n\n\n\nThe event is being sponsored by the Orange Boosters and money raised will be used to support all athletes at Beatrice High School.
X-ALT-DESC;FMTTYPE=text/html:The Waffleman at Beatrice High School<br />\n<br />\nFriday\, January 7<br />\n4:30 - 7:30 p.m.<br />\n<br />\nTickets are $6 and can be purchased from any BHS winter or spring sports athlete.&nbsp\; Tickets will also be sold at the door.<br />\n<br />\nMeal includes waffles\, sausage\, whipped cream &amp\; a choice of five different syrups.<br />\n<br />\nThe event is being sponsored by the Orange Boosters and money raised will be used to support all athletes at Beatrice High School.
LOCATION:
UID:e.41.3163
SEQUENCE:3
DTSTAMP:20260425T003708Z
URL:https://business.beatricechamber.com/events/details/waffleman-all-you-can-eat-waffles-01-07-2011-3163
END:VEVENT

END:VCALENDAR
