BEGIN:VCALENDAR
VERSION:2.0
PRODID:-//ChamberMaster//Event Calendar 2.0//EN
METHOD:PUBLISH
X-PUBLISHED-TTL:P3D
REFRESH-INTERVAL:P3D
CALSCALE:GREGORIAN
BEGIN:VEVENT
DTSTART:20100514T150000Z
DTEND:20100514T190000Z
X-MICROSOFT-CDO-ALLDAYEVENT:FALSE
SUMMARY:Walk the Track for American Diabetes Association
DESCRIPTION:Paddock Lane students will be walking the track and participating in other physical activities to raise money for the American Diabetes Association.  Parents\, family and friends are welcome to come walk and or donate to thier goal of $2500.
X-ALT-DESC;FMTTYPE=text/html:Paddock Lane students will be walking the track and participating in other physical activities to raise money for the American Diabetes Association.  Parents\, family and friends are welcome to come walk and or donate to thier goal of $2500.
LOCATION:Athletic Park
UID:e.41.1995
SEQUENCE:3
DTSTAMP:20260425T123006Z
URL:https://business.beatricechamber.com/events/details/walk-the-track-for-american-diabetes-association-05-14-2010-1995
END:VEVENT

END:VCALENDAR
