BEGIN:VCALENDAR
VERSION:2.0
PRODID:-//ChamberMaster//Event Calendar 2.0//EN
METHOD:PUBLISH
X-PUBLISHED-TTL:P3D
REFRESH-INTERVAL:P3D
CALSCALE:GREGORIAN
BEGIN:VEVENT
DTSTART;VALUE=DATE:20110420
DTEND;VALUE=DATE:20110421
TRANSP:TRANSPARENT
X-MICROSOFT-CDO-ALLDAYEVENT:TRUE
SUMMARY:"Walk to School Day"
DESCRIPTION:Cedar\, Lincoln\, Paddock Lane and Stoddard Elementary Schools in Beatrice\n\n	Bruning-Davenport\, Central Elementary in Fairbury\, Crete Elementary and Wilber Elementary\n\n	 \n\n	Schools will join forces with children & adults throughout Nebraska to celebrate Spring Walk to School Day\n\n	\n\n	Wednesday\, April 20\n\n	\n\n	Each walk begins 30 minutes prior to the start of the school day.  PTO volunteers in Beatrice are on board to help at each school.  For additional information\, please contact Natalie Kingston at 402-826-6686.
X-ALT-DESC;FMTTYPE=text/html:<p>\n	Cedar\, Lincoln\, Paddock Lane and Stoddard Elementary Schools in Beatrice<br />\n	Bruning-Davenport\, Central Elementary in Fairbury\, Crete Elementary and Wilber Elementary<br />\n	&nbsp\;</p>\n<p>\n	Schools will join forces with children &amp\; adults throughout Nebraska to celebrate Spring Walk to School Day<br />\n	<br />\n	Wednesday\, April 20<br />\n	<br />\n	Each walk begins 30 minutes prior to the start of the school day.&nbsp\; PTO volunteers in Beatrice are on board to help at each school.&nbsp\; For additional information\, please contact Natalie Kingston at 402-826-6686.</p>\n
LOCATION:
UID:e.41.4587
SEQUENCE:3
DTSTAMP:20260424T195111Z
URL:https://business.beatricechamber.com/events/details/walk-to-school-day-04-20-2011-4587
END:VEVENT

END:VCALENDAR
