BEGIN:VCALENDAR
VERSION:2.0
PRODID:-//ChamberMaster//Event Calendar 2.0//EN
METHOD:PUBLISH
X-PUBLISHED-TTL:P3D
REFRESH-INTERVAL:P3D
CALSCALE:GREGORIAN
BEGIN:VEVENT
DTSTART;VALUE=DATE:20100410
DTEND;VALUE=DATE:20100411
TRANSP:TRANSPARENT
X-MICROSOFT-CDO-ALLDAYEVENT:TRUE
SUMMARY:Walking Cemetery Tour
DESCRIPTION:Historic walking cemetery tour April 10 at 9:30 a.m.Join us for a historic walking tour through Beatrice Cemetery and Evergreen Cemetery on Saturday\, April 10\, 9:30 a.m. Laureen Riedesel\, local historian\, will be our guide. Please meet at the Beatrice Cemetery on 15th & Scott Streets promptly at 9:30 a.m. A free-will donation will be accepted.\n\nSign up to attend by calling the Box Office at 228-1801.\nPre-registration is requested\, though not required. \nThis will be a fun and informative outreach event sponsored by the theatre to tie-in with our next production.
X-ALT-DESC;FMTTYPE=text/html:<div><table id="content_LETTER.BLOCK27" border="0" cellspacing="0" cellpadding="5" width="100%" style="margin-bottom: 10px"><tbody><tr><td width="99%" styleclass="style_ArticleHead" style="font-family: Arial\,Helvetica\,sans-serif\; color: #1f4858\; font-size: 14pt"><font color="#1f4858" size="4" face="Arial\,Helvetica\,sans-serif" style="font-family: Arial\,Helvetica\,sans-serif\; color: #1f4858\; font-size: 14pt">Historic walking cemetery tour <div styleclass="style_ArticleSubHead" style="font-family: Arial\,Helvetica\,sans-serif\; color: #d78519\; font-size: 10pt"><font color="#d78519" size="2" face="Arial\,Helvetica\,sans-serif" style="font-family: Arial\,Helvetica\,sans-serif\; color: #d78519\; font-size: 10pt"><b>April 10 at 9:30 a.m.</b></font></div></font></td></tr><tr><td styleclass="style_ArticleText" style="font-family: Arial\,Helvetica\,sans-serif\; color: #748b84\; font-size: 10pt"><font color="#748b84" size="2" face="Arial\,Helvetica\,sans-serif" style="font-family: Arial\,Helvetica\,sans-serif\; color: #748b84\; font-size: 10pt">Join us for a historic walking tour through Beatrice Cemetery and Evergreen Cemetery on Saturday\, April 10\, 9:30 a.m. Laureen Riedesel\, local historian\, will be our guide. Please meet at the Beatrice Cemetery on 15th &amp\; Scott Streets promptly at 9:30 a.m. A free-will donation will be accepted.<br /><br />Sign up to attend by calling the Box Office at 228-1801.<br />Pre-registration is requested\, though not required. <div><br />This will be a fun and informative outreach event sponsored by the theatre to tie-in with our next production. &nbsp\; <br />&nbsp\;</div></font></td></tr></tbody></table></div>
LOCATION:
UID:e.41.1952
SEQUENCE:3
DTSTAMP:20260425T135231Z
URL:https://business.beatricechamber.com/events/details/walking-cemetery-tour-04-10-2010-1952
END:VEVENT

END:VCALENDAR
