BEGIN:VCALENDAR
VERSION:2.0
PRODID:-//ChamberMaster//Event Calendar 2.0//EN
METHOD:PUBLISH
X-PUBLISHED-TTL:P3D
REFRESH-INTERVAL:P3D
CALSCALE:GREGORIAN
BEGIN:VEVENT
DTSTART;VALUE=DATE:20110402
DTEND;VALUE=DATE:20110404
TRANSP:TRANSPARENT
X-MICROSOFT-CDO-ALLDAYEVENT:TRUE
SUMMARY:Weekend Book Sale at Beatrice Public Library
DESCRIPTION:The "Change of Seasons" Book Sale\n\nsponsored by the Friends of the Beatrice Public Library\n\n\n\nNorva Price Room\n\nSaturday\, April 2 - 9 am-6 pm\n\nSunday\, April 3 - 2 pm - 5 pm\n\n\n\nIncluded will be children's books\, literary titles\, vintage books\, vintage magazines such as American Heritage\, as well as many other materials donated for this purpose.\n\n\n\nThis is the first event of Library Appreciation Month in Beatrice.  For more information\, contact the Library at (402)223-3584.
X-ALT-DESC;FMTTYPE=text/html:The &quot\;Change of Seasons&quot\; Book Sale<br />\nsponsored by the Friends of the Beatrice Public Library<br />\n<br />\nNorva Price Room<br />\nSaturday\, April 2 - 9 am-6 pm<br />\nSunday\, April 3 - 2 pm - 5 pm<br />\n<br />\nIncluded will be children&#39\;s books\, literary titles\, vintage books\, vintage magazines such as American Heritage\, as well as many other materials donated for this purpose.<br />\n<br />\nThis is the first event of Library Appreciation Month in Beatrice.&nbsp\; For more information\, contact the Library at (402)223-3584.
LOCATION:
UID:e.41.4421
SEQUENCE:3
DTSTAMP:20260424T195454Z
URL:https://business.beatricechamber.com/events/details/weekend-book-sale-at-beatrice-public-library-04-02-2011-4421
END:VEVENT

END:VCALENDAR
