BEGIN:VCALENDAR
VERSION:2.0
PRODID:-//ChamberMaster//Event Calendar 2.0//EN
METHOD:PUBLISH
X-PUBLISHED-TTL:P3D
REFRESH-INTERVAL:P3D
CALSCALE:GREGORIAN
BEGIN:VEVENT
DTSTART:20090814T150000Z
DTEND:20090814T170000Z
X-MICROSOFT-CDO-ALLDAYEVENT:FALSE
SUMMARY:Welcome Back Teachers and Staff
DESCRIPTION:Sponsored by: Wells Fardo Advisors The Business Community shows their appreciation to the Teachers and Staff of all Beatrice Schools.
X-ALT-DESC;FMTTYPE=text/html:<div>&nbsp\;</div><div>Sponsored by: Wells Fardo Advisors</div><div>&nbsp\;</div><div>The Business Community shows their appreciation to the Teachers and Staff of all Beatrice Schools.</div>
LOCATION:Beatrice High School
UID:e.41.1330
SEQUENCE:3
DTSTAMP:20260426T011838Z
URL:https://business.beatricechamber.com/events/details/welcome-back-teachers-and-staff-08-14-2009-1330
END:VEVENT

END:VCALENDAR
