BEGIN:VCALENDAR
VERSION:2.0
PRODID:-//ChamberMaster//Event Calendar 2.0//EN
METHOD:PUBLISH
X-PUBLISHED-TTL:P3D
REFRESH-INTERVAL:P3D
CALSCALE:GREGORIAN
BEGIN:VEVENT
DTSTART;VALUE=DATE:20120425
DTEND;VALUE=DATE:20120529
TRANSP:TRANSPARENT
X-MICROSOFT-CDO-ALLDAYEVENT:TRUE
SUMMARY:Welcome the Homestead Act of 1862
DESCRIPTION:Don't miss this unique opportunity to\n\n	view one of the Nation's most \n\n	influential pieces of legislation\, \n\n	the Homestead Act of 1862\,\n\n	at Homestead National Monument's Heritage Center.
X-ALT-DESC;FMTTYPE=text/html:<p>\n	Don&#39\;t miss this unique opportunity to<br />\n	view&nbsp\;one&nbsp\;of&nbsp\;the&nbsp\;Nation&#39\;s&nbsp\;most&nbsp\;<br />\n	influential&nbsp\;pieces&nbsp\;of&nbsp\;legislation\,&nbsp\;<br />\n	the <a href="http://www.nps.gov/home/planyourvisit/upload/Historic-Homestead-Act.pdf" id="CP___PAGEID=303563|">Homestead Act of 1862</a>\,<br />\n	at Homestead National Monument&#39\;s Heritage Center.</p>\n
LOCATION:Homestead National Monument of America's Heritage Center
UID:e.41.5347
SEQUENCE:3
DTSTAMP:20260422T142904Z
URL:https://business.beatricechamber.com/events/details/welcome-the-homestead-act-of-1862-04-25-2012-5347
END:VEVENT

END:VCALENDAR
