BEGIN:VCALENDAR
VERSION:2.0
PRODID:-//ChamberMaster//Event Calendar 2.0//EN
METHOD:PUBLISH
X-PUBLISHED-TTL:P3D
REFRESH-INTERVAL:P3D
CALSCALE:GREGORIAN
BEGIN:VEVENT
DTSTART:20120821T220000Z
DTEND:20120822T020000Z
X-MICROSOFT-CDO-ALLDAYEVENT:FALSE
SUMMARY:Welcome to Medicare: A Guide for Baby Boomers
DESCRIPTION:Are you reaching Medicare age and need to know more about the program? This workshop is a great opportunity for anyone wanting to learn the basics of Medicare including how to qualify for Extra Help paying for prescription drugs.\n\n\n\nRegistration is required. Space limited to the first 50 registrants.\n\n\n\nFor more information or to register contact 1-800-234-7119.
X-ALT-DESC;FMTTYPE=text/html:Are you reaching Medicare age and need to know more about the program? This workshop is a great opportunity for anyone wanting to learn the basics of Medicare including how to qualify for Extra Help paying for prescription drugs.<br />\n<br />\nRegistration is required. Space limited to the first 50 registrants.<br />\n<br />\nFor more information or to register contact 1-800-234-7119.
LOCATION:Southeast Community College--Beatrice\, Jackson Hall 4771 W Scott Rd Beatrice\, NE 68310
UID:e.41.6595
SEQUENCE:3
DTSTAMP:20260422T100940Z
URL:https://business.beatricechamber.com/events/details/welcome-to-medicare-a-guide-for-baby-boomers-08-21-2012-6595
END:VEVENT

END:VCALENDAR
