BEGIN:VCALENDAR
VERSION:2.0
PRODID:-//ChamberMaster//Event Calendar 2.0//EN
METHOD:PUBLISH
X-PUBLISHED-TTL:P3D
REFRESH-INTERVAL:P3D
CALSCALE:GREGORIAN
BEGIN:VEVENT
DTSTART:20090902T223000Z
DTEND:20090903T010000Z
X-MICROSOFT-CDO-ALLDAYEVENT:FALSE
SUMMARY:Wells Fargo Trophy Shoot - Beatrice Gun Club
DESCRIPTION:The Beatrice Gun Club will host the Wells Fargo Trophy Shoot Wednesday\, Sept. 2.Registration opens at 5:30 p.m. with the program starting at 6 p.m. Entries will close at 7 p.m.\n\nThe program will include 25 16-yard targets\, 25 19-yard targets\, 25 22-yard targets and 25 25-yard targets.\n\nThe $19 entry fee is for all 100 targets.\n\nPrizes will be awarded to the top three places in three Lewis classes.\n\nAll ties will be decided by a shoot-off.\n\nThe Beatrice Gun Club is located 1 1/4 miles west of Beatrice\, just off Nebraska Highway 4
X-ALT-DESC;FMTTYPE=text/html:<div><p>The Beatrice Gun Club will host the Wells Fargo Trophy Shoot Wednesday\, Sept. 2.</p><div class="storyAd-300x250"><!-- AdSys ad not found for sports/local:in_story --></div><p>Registration opens at 5:30 p.m. with the program starting at 6 p.m. Entries will close at 7 p.m.<br /><br />The program will include 25 16-yard targets\, 25 19-yard targets\, 25 22-yard targets and 25 25-yard targets.<br /><br />The $19 entry fee is for all 100 targets.<br /><br />Prizes will be awarded to the top three places in three Lewis classes.<br /><br />All ties will be decided by a shoot-off.<br /><br />The Beatrice Gun Club is located 1 1/4 miles west of Beatrice\, just off Nebraska Highway 4</p></div>
LOCATION:
UID:e.41.1385
SEQUENCE:3
DTSTAMP:20260425T234342Z
URL:https://business.beatricechamber.com/events/details/wells-fargo-trophy-shoot-beatrice-gun-club-09-02-2009-1385
END:VEVENT

END:VCALENDAR
