BEGIN:VCALENDAR
VERSION:2.0
PRODID:-//ChamberMaster//Event Calendar 2.0//EN
METHOD:PUBLISH
X-PUBLISHED-TTL:P3D
REFRESH-INTERVAL:P3D
CALSCALE:GREGORIAN
BEGIN:VEVENT
DTSTART;VALUE=DATE:20111007
DTEND;VALUE=DATE:20111011
TRANSP:TRANSPARENT
X-MICROSOFT-CDO-ALLDAYEVENT:TRUE
SUMMARY:Welsh Heritage Festival
DESCRIPTION:October 7-10\, 2011  \n\n\n\nWelsh Heritage Festival\, registration required\n\n                                  \n\n See www.welshheritage.org for information
X-ALT-DESC;FMTTYPE=text/html:<span style="font-size: 11pt"><span style="color: navy"><span style="font-family: arial\, sans-serif">October 7-10\, 2011&nbsp\;&nbsp\;<br />\n<br />\nWelsh Heritage Festival\, registration required</span></span></span><br />\n<span style="font-size: 11pt"><span style="color: navy"><span style="font-family: arial\, sans-serif"><span face="">&nbsp\;&nbsp\;&nbsp\;&nbsp\;&nbsp\;&nbsp\;&nbsp\;&nbsp\;&nbsp\;&nbsp\;&nbsp\;&nbsp\;&nbsp\;&nbsp\;&nbsp\;&nbsp\;&nbsp\;&nbsp\;&nbsp\;&nbsp\;&nbsp\;&nbsp\;&nbsp\;&nbsp\;&nbsp\;&nbsp\;&nbsp\;&nbsp\;&nbsp\;&nbsp\;&nbsp\;&nbsp\;&nbsp\;&nbsp\;<br />\n&nbsp\;See <a href="http://www.welshheritage.org">www.welshheritage.org</a> for information</span></span></span></span>
LOCATION:
UID:e.41.4826
SEQUENCE:3
DTSTAMP:20260424T111422Z
URL:https://business.beatricechamber.com/events/details/welsh-heritage-festival-10-07-2011-4826
END:VEVENT

END:VCALENDAR
