BEGIN:VCALENDAR
VERSION:2.0
PRODID:-//ChamberMaster//Event Calendar 2.0//EN
METHOD:PUBLISH
X-PUBLISHED-TTL:P3D
REFRESH-INTERVAL:P3D
CALSCALE:GREGORIAN
BEGIN:VEVENT
DTSTART:20091003T160000Z
DTEND:20091003T180000Z
X-MICROSOFT-CDO-ALLDAYEVENT:FALSE
SUMMARY:West Court Plaza Grand Opening
DESCRIPTION:Come and meet us on Saturday\, October 3rdWe'll provide the food and funwhile you visit our businesses andregister for door prizes!! Sponsored by:Antiques ParadiseHari RXHoops ChiropracticParaTouch Massage
X-ALT-DESC;FMTTYPE=text/html:<div>Come and meet us on Saturday\, October 3rd</div><div>We'll provide the food and fun</div><div>while you visit our businesses and</div><div>register for door prizes!!</div><div>&nbsp\;</div><div>Sponsored by:</div><div>Antiques Paradise</div><div>Hari RX</div><div>Hoops Chiropractic</div><div>ParaTouch Massage</div>
LOCATION:
UID:e.41.1442
SEQUENCE:3
DTSTAMP:20260425T222440Z
URL:https://business.beatricechamber.com/events/details/west-court-plaza-grand-opening-10-03-2009-1442
END:VEVENT

END:VCALENDAR
