BEGIN:VCALENDAR
VERSION:2.0
PRODID:-//ChamberMaster//Event Calendar 2.0//EN
METHOD:PUBLISH
X-PUBLISHED-TTL:P3D
REFRESH-INTERVAL:P3D
CALSCALE:GREGORIAN
BEGIN:VEVENT
DTSTART:20101218T153000Z
DTEND:20101218T153000Z
X-MICROSOFT-CDO-ALLDAYEVENT:FALSE
SUMMARY:Western Community Christmas celebration:
DESCRIPTION:Western communinty Christmas celebration:\n\n\n\n9:30 a.m.\, refreshments\, Struckman Baatz Library open house. Firemen's pancake feed\, 11 a.m.-1 p.m.\, followed by adult drawing. Santa at the Legion Building\, 1:30-2:30 p.m. Raffle\; tickets at the library\, First State Bank- Western Branch\, or KT's Market.
X-ALT-DESC;FMTTYPE=text/html:<strong>Western communinty Christmas celebration:<br />\n<br />\n9:30 a.m.\, refreshments\, Struckman Baatz Library open house. Firemen&#39\;s pancake feed\, 11 a.m.-1 p.m.\, followed by adult drawing. Santa at the Legion Building\, 1:30-2:30 p.m. Raffle\; tickets at the library\, First State Bank- Western Branch\, or KT&#39\;s Market.</strong><br />\n
LOCATION:
UID:e.41.2917
SEQUENCE:3
DTSTAMP:20260425T014255Z
URL:https://business.beatricechamber.com/events/details/western-community-christmas-celebration-12-18-2010-2917
END:VEVENT

END:VCALENDAR
