BEGIN:VCALENDAR
VERSION:2.0
PRODID:-//ChamberMaster//Event Calendar 2.0//EN
METHOD:PUBLISH
X-PUBLISHED-TTL:P3D
REFRESH-INTERVAL:P3D
CALSCALE:GREGORIAN
BEGIN:VEVENT
DTSTART;VALUE=DATE:20120504
DTEND;VALUE=DATE:20120505
TRANSP:TRANSPARENT
X-MICROSOFT-CDO-ALLDAYEVENT:TRUE
SUMMARY:Western Community Garage Sale
DESCRIPTION:Garage Sale\n\n\n\nTime: 4-8 p.m.\n\n\n\nPlace: Wymore United Presbyterian Church.\n\n\n\nBake sale\, coffee & cinnamon rolls\, lunch with homemade pies
X-ALT-DESC;FMTTYPE=text/html:Garage Sale<br />\n<br />\nTime: 4-8 p.m.<br />\n<br />\nPlace:&nbsp\;Wymore&nbsp\;United Presbyterian Church.<br />\n<br />\nBake sale\, coffee &amp\;&nbsp\;cinnamon rolls\,&nbsp\;lunch with homemade&nbsp\;pies
LOCATION:
UID:e.41.5480
SEQUENCE:3
DTSTAMP:20260422T142808Z
URL:https://business.beatricechamber.com/events/details/western-community-garage-sale-05-04-2012-5480
END:VEVENT

END:VCALENDAR
