BEGIN:VCALENDAR
VERSION:2.0
PRODID:-//ChamberMaster//Event Calendar 2.0//EN
METHOD:PUBLISH
X-PUBLISHED-TTL:P3D
REFRESH-INTERVAL:P3D
CALSCALE:GREGORIAN
BEGIN:VEVENT
DTSTART;VALUE=DATE:20110716
DTEND;VALUE=DATE:20110717
TRANSP:TRANSPARENT
X-MICROSOFT-CDO-ALLDAYEVENT:TRUE
SUMMARY:Western Old Settlers Picnic
DESCRIPTION:Events throughout the day in Western.  Some of the fun events include:  car shower\, inflatable games\, kids races\, kids tractor pull\, grand parade and children's parade at 7 p.m.  Sponsored by Western Community Club.
X-ALT-DESC;FMTTYPE=text/html:Events throughout the day in Western.&nbsp\; Some of the fun events include:&nbsp\; car shower\, inflatable games\, kids races\, kids tractor pull\, grand parade and children&#39\;s parade at 7 p.m.&nbsp\; Sponsored by Western Community Club.
LOCATION:
UID:e.41.4962
SEQUENCE:3
DTSTAMP:20260424T155213Z
URL:https://business.beatricechamber.com/events/details/western-old-settlers-picnic-07-16-2011-4962
END:VEVENT

END:VCALENDAR
