BEGIN:VCALENDAR
VERSION:2.0
PRODID:-//ChamberMaster//Event Calendar 2.0//EN
METHOD:PUBLISH
X-PUBLISHED-TTL:P3D
REFRESH-INTERVAL:P3D
CALSCALE:GREGORIAN
BEGIN:VEVENT
DTSTART;VALUE=DATE:20110805
DTEND;VALUE=DATE:20110806
TRANSP:TRANSPARENT
X-MICROSOFT-CDO-ALLDAYEVENT:TRUE
SUMMARY:Western Theme Actor Robert Taylor 100th Birthday Celebration
DESCRIPTION:The Kensington\, 6th & Court St.\, Beatrice.  5 p.m. book signing with Linda Alexander\, E.A. Kral and Charles Tranburg.  6 p.m.\, prime rib or vegetarian dinner\; lemon meringue pie.  "Westward the Women\," Community Players Theatre\, 412 Ella St.\, Beatrice.\n\n\n\nFor more information\, call 402-228-1679 or e-mail gagecountymuseum@beatricene.com
X-ALT-DESC;FMTTYPE=text/html:The Kensington\, 6th &amp\; Court St.\, Beatrice.&nbsp\; 5 p.m. book signing with Linda Alexander\, E.A. Kral and Charles Tranburg.&nbsp\; 6 p.m.\, prime rib or vegetarian dinner\; lemon meringue pie.&nbsp\; &quot\;Westward the Women\,&quot\; Community Players Theatre\, 412 Ella St.\, Beatrice.<br />\n<br />\nFor more information\, call 402-228-1679 or e-mail <a href="mailto:gagecountymuseum@beatricene.com">gagecountymuseum@beatricene.com</a>
LOCATION:
UID:e.41.5019
SEQUENCE:3
DTSTAMP:20260424T135451Z
URL:https://business.beatricechamber.com/events/details/western-theme-actor-robert-taylor-100th-birthday-celebration-08-05-2011-5019
END:VEVENT

END:VCALENDAR
