BEGIN:VCALENDAR
VERSION:2.0
PRODID:-//ChamberMaster//Event Calendar 2.0//EN
METHOD:PUBLISH
X-PUBLISHED-TTL:P3D
REFRESH-INTERVAL:P3D
CALSCALE:GREGORIAN
BEGIN:VEVENT
DTSTART;VALUE=DATE:20100422
DTEND;VALUE=DATE:20100423
TRANSP:TRANSPARENT
X-MICROSOFT-CDO-ALLDAYEVENT:TRUE
SUMMARY:''Why Use Rain Barrels?''
DESCRIPTION:"Why Use Rain Barrels?" Thursday\, April 22\, 20107 p.m.City Auditorium Conference Room205 N 4th Street\, Beatrice Free informational and educational program sponsored by the City of Beatrice Storm Water Coordinator\, with a grant from the Nebraska Department of Environmental Quality and Keep Beatrice Beautiful\, Inc.  Gary Willard\, Storm Water coordinator\, will offer instructions on how to make your own rain barrel.
X-ALT-DESC;FMTTYPE=text/html:<div><span style="font-size: medium">&quot\;</span><span style="font-size: medium">Why Use Rain&nbsp\;Barrels?&quot\;</span></div><div>&nbsp\;</div><div><span style="font-size: small">Thursday\, April 22\, 2010</span></div><div><span style="font-size: small">7 p.m.</span></div><div><span style="font-size: small">City Auditorium Conference Room</span></div><div><span style="font-size: small">205 N 4th Street\, Beatrice</span></div><div>&nbsp\;</div><div>Free informational and educational program sponsored by the City of Beatrice Storm&nbsp\;Water Coordinator\, with a grant from the Nebraska Department of Environmental Quality and Keep Beatrice Beautiful\, Inc. &nbsp\;Gary Willard\, Storm Water coordinator\, will offer instructions on how to make your own rain barrel.</div><div>&nbsp\;</div>
LOCATION:
UID:e.41.1956
SEQUENCE:3
DTSTAMP:20260425T135227Z
URL:https://business.beatricechamber.com/events/details/why-use-rain-barrels-04-22-2010-1956
END:VEVENT

END:VCALENDAR
