BEGIN:VCALENDAR
VERSION:2.0
PRODID:-//ChamberMaster//Event Calendar 2.0//EN
METHOD:PUBLISH
X-PUBLISHED-TTL:P3D
REFRESH-INTERVAL:P3D
CALSCALE:GREGORIAN
BEGIN:VEVENT
DTSTART;VALUE=DATE:20100320
DTEND;VALUE=DATE:20100321
TRANSP:TRANSPARENT
X-MICROSOFT-CDO-ALLDAYEVENT:TRUE
SUMMARY:Wii Tournament 4/20/10
DESCRIPTION:Wii Tournament4 p.m. - 10 p.m. Gage County Fairgrounds4-H Inc. BuildingBeatrice\, NE Top prize:  Nintendo Wii Concession stand. $5 at the door ($4 if pre-registered to: wiitournament4h@hotmail.com)  Include name and grade.
X-ALT-DESC;FMTTYPE=text/html:<div>Wii Tournament</div><div>4 p.m. - 10 p.m.</div><div>&nbsp\;</div><div>Gage County Fairgrounds</div><div>4-H Inc. Building</div><div>Beatrice\, NE</div><div>&nbsp\;</div><div>Top prize:&nbsp\; Nintendo Wii</div><div>&nbsp\;</div><div>Concession stand.</div><div>&nbsp\;</div><div>$5 at the door ($4 if pre-registered to: <a href="mailto:wiitournament4h@hotmail.com">wiitournament4h@hotmail.com</a>)&nbsp\; Include name and grade.</div><div>&nbsp\;</div>
LOCATION:
UID:e.41.1699
SEQUENCE:3
DTSTAMP:20260425T153054Z
URL:https://business.beatricechamber.com/events/details/wii-tournament-4-20-10-03-20-2010-1699
END:VEVENT

END:VCALENDAR
