BEGIN:VCALENDAR
VERSION:2.0
PRODID:-//ChamberMaster//Event Calendar 2.0//EN
METHOD:PUBLISH
X-PUBLISHED-TTL:P3D
REFRESH-INTERVAL:P3D
CALSCALE:GREGORIAN
BEGIN:VEVENT
DTSTART;VALUE=DATE:20120311
DTEND;VALUE=DATE:20120312
TRANSP:TRANSPARENT
X-MICROSOFT-CDO-ALLDAYEVENT:TRUE
SUMMARY:"Willa Cather's Prairie Neighbors"
DESCRIPTION:"Willa Cather's Prairie Neighbors"\n\n\n\nSunday\, March 11\n\n2 pm\n\n\n\nHomestead National Monument of America's Education Center\n\n\n\nProgram by Kari Ronning\, co-director of the Willa Cather Journalism Project at the University of Nebraska-Lincoln's Center for Digital Humanities Willa Cather Archive. \n\n\n\n402-223-3514\n\nwww.nps.gov/home/index.htm
X-ALT-DESC;FMTTYPE=text/html:&quot\;Willa Cather&#39\;s Prairie Neighbors&quot\;<br />\n<br />\nSunday\, March 11<br />\n2 pm<br />\n<br />\nHomestead National Monument of America&#39\;s Education Center<br />\n<br />\nProgram by Kari Ronning\, co-director of the Willa Cather Journalism Project at the University of Nebraska-Lincoln&#39\;s Center for Digital Humanities Willa Cather Archive.&nbsp\;<br />\n<br />\n402-223-3514<br />\nwww.nps.gov/home/index.htm<br />\n
LOCATION:
UID:e.41.5394
SEQUENCE:3
DTSTAMP:20260422T173307Z
URL:https://business.beatricechamber.com/events/details/willa-cather-s-prairie-neighbors-03-11-2012-5394
END:VEVENT

END:VCALENDAR
