BEGIN:VCALENDAR
VERSION:2.0
PRODID:-//ChamberMaster//Event Calendar 2.0//EN
METHOD:PUBLISH
X-PUBLISHED-TTL:P3D
REFRESH-INTERVAL:P3D
CALSCALE:GREGORIAN
BEGIN:VEVENT
DTSTART:20120413T000000Z
DTEND:20120413T020000Z
X-MICROSOFT-CDO-ALLDAYEVENT:FALSE
SUMMARY:"Willard Circus Attractions and Rosie the Elephant:"
DESCRIPTION:Topic of presentation by Gordon and Ardy Bitting as part of the "Beatrice We Remember" series\, Beatrice Public Library\, 16th and Court St\, Beatrice.\n\nSponsored by the Gage County Historical Society and Beatrice Public Library
X-ALT-DESC;FMTTYPE=text/html:Topic of presentation by Gordon and Ardy Bitting as part of the &quot\;Beatrice We Remember&quot\; series\, Beatrice Public Library\, 16th&nbsp\;and Court St\, Beatrice.<br />\nSponsored by the Gage County Historical Society and Beatrice Public Library
LOCATION:
UID:e.41.5472
SEQUENCE:3
DTSTAMP:20260422T155015Z
URL:https://business.beatricechamber.com/events/details/willard-circus-attractions-and-rosie-the-elephant-04-12-2012-5472
END:VEVENT

END:VCALENDAR
