BEGIN:VCALENDAR
VERSION:2.0
PRODID:-//ChamberMaster//Event Calendar 2.0//EN
METHOD:PUBLISH
X-PUBLISHED-TTL:P3D
REFRESH-INTERVAL:P3D
CALSCALE:GREGORIAN
BEGIN:VEVENT
DTSTART:20090804T000000Z
DTEND:20090804T010000Z
X-MICROSOFT-CDO-ALLDAYEVENT:FALSE
SUMMARY:Wind Energy Meeting
DESCRIPTION:Some landowners along Highway 136 between Beatrice and Jansen have been contacted about wind easement contracts.\n= 1234310400)  \naAd[3] = 'http://www.diodecom.net/'\;\naAd[4] = '1'\;\naAd[6] = '1'\;\naAd[7] = 3\;\naAd[8] = 0\;\naAd[9] = 540\;\naAd[10] = 0\;\naAd[11] = 0\;\naAds[aAds.length] = aAd\;\n}\nif ((nAdsysTime >= 1234310400)  \naAd[3] = 'http://www.diodecom.net/'\;\naAd[4] = '1'\;\naAd[6] = '1'\;\naAd[7] = 3\;\naAd[8] = 0\;\naAd[9] = 540\;\naAd[10] = 0\;\naAd[11] = 0\;\naAds[aAds.length] = aAd\;\n}\nif ((nAdsysTime >= 1223337600)  \naAd[7] = 3\;\naAd[8] = 0\;\naAd[9] = 540\;\naAd[10] = 3\;\naAd[11] = 1440\;\naAds[aAds.length] = aAd\;\n}\nif ((nAdsysTime >= 1233446400)  \naAd[3] = 'http://www.hillhomefurnishings.com/'\;\naAd[4] = '1'\;\naAd[6] = '1'\;\naAd[7] = 10\;\naAd[8] = 0\;\naAd[9] = 540\;\naAd[10] = 0\;\naAd[11] = 0\;\naAds[aAds.length] = aAd\;\n}\nif ((nAdsysTime >= 1243987200)  \naAd[3] = ''\;\naAd[4] = '0'\;\naAd[6] = '1'\;\naAd[7] = 1\;\naAd[8] = 0\;\naAd[9] = 540\;\naAd[10] = 0\;\naAd[11] = 0\;\naAds[aAds.length] = aAd\;\n}\nif ((nAdsysTime >= 1243987200)  \naAd[3] = ''\;\naAd[4] = '0'\;\naAd[6] = '1'\;\naAd[7] = 1\;\naAd[8] = 0\;\naAd[9] = 540\;\naAd[10] = 0\;\naAd[11] = 0\;\naAds[aAds.length] = aAd\;\n}\nif ((nAdsysTime >= 1243987200)  \naAd[3] = ''\;\naAd[4] = '0'\;\naAd[6] = '1'\;\naAd[7] = 1\;\naAd[8] = 0\;\naAd[9] = 540\;\naAd[10] = 0\;\naAd[11] = 0\;\naAds[aAds.length] = aAd\;\n}\nif ((nAdsysTime >= 1243987200)  \naAd[3] = ''\;\naAd[4] = '0'\;\naAd[6] = '1'\;\naAd[7] = 1\;\naAd[8] = 0\;\naAd[9] = 540\;\naAd[10] = 0\;\naAd[11] = 0\;\naAds[aAds.length] = aAd\;\n}\nif ((nAdsysTime >= 1248825600)  \naAd[3] = ''\;\naAd[4] = '0'\;\naAd[6] = '1'\;\naAd[7] = 10\;\naAd[8] = 0\;\naAd[9] = 540\;\naAd[10] = 0\;\naAd[11] = 0\;\naAds[aAds.length] = aAd\;\n}\nadsys_displayAd('http://adsys.townnews.com'\, 'beatricedailysun.com'\, aAds\, aCampaigns)\;\n\n// -->\nTo provide them with information concerning easement and wind development issues\, University of Nebraska-Lincoln Extension has scheduled an information meeting at 7 p.m. Monday at the Gage County Extension Office.\n\nPresentations planned include Extension Educator John Hay\, who has statewide responsibilities for energy education and has conducted workshops across the state\, and Saline County Extension Educator Randy Pryor\, who has done background educational work for the Saline development site and toured a number of developments.\n\nLandowners in Saline County formed the Saline County Wind Association and a board member will share information about their approach.\n\n"I have organized this information meeting to assist land owners in decisions they will need to make regarding potential wind development contracts\," said Gage County Extension Educator Paul Hay. "It is open to all interested persons."\n\nFor more information\, call 402-223-1384.
X-ALT-DESC;FMTTYPE=text/html:<div><div class="story"><p>Some landowners along Highway 136 between Beatrice and Jansen have been contacted about wind easement contracts.</p><div class="storyAd-300x250"><script type="text/javascript">\n<!-- \naCampaigns = new Array()\;\naCampaigns[540] = 100\;\naAds = new Array()\;\nnAdsysTime = new Date().getTime()/1000\;\ndocument.usePlayer = 1\;\nif ((nAdsysTime >= 1234310400) && (nAdsysTime <= 1265846399)) {\naAd = new Array('news+in_story'\, '35507-1239120579'\, 'jpg')\;\naAd[3] = 'http://www.diodecom.net/'\;\naAd[4] = '1'\;\naAd[6] = '1'\;\naAd[7] = 3\;\naAd[8] = 0\;\naAd[9] = 540\;\naAd[10] = 0\;\naAd[11] = 0\;\naAds[aAds.length] = aAd\;\n}\nif ((nAdsysTime >= 1234310400) && (nAdsysTime <= 1265846399)) {\naAd = new Array('news+in_story'\, '72353-1239120601'\, 'jpg')\;\naAd[3] = 'http://www.diodecom.net/'\;\naAd[4] = '1'\;\naAd[6] = '1'\;\naAd[7] = 3\;\naAd[8] = 0\;\naAd[9] = 540\;\naAd[10] = 0\;\naAd[11] = 0\;\naAds[aAds.length] = aAd\;\n}\nif ((nAdsysTime >= 1223337600) && (nAdsysTime <= 1254959999) && !adsys_hasReachedFreqCap(152423\, 3)) {\naAd = new Array('news+in_story'\, '152423-1223402350'\, 'js')\;\naAd[7] = 3\;\naAd[8] = 0\;\naAd[9] = 540\;\naAd[10] = 3\;\naAd[11] = 1440\;\naAds[aAds.length] = aAd\;\n}\nif ((nAdsysTime >= 1233446400) && (nAdsysTime <= 1264982399)) {\naAd = new Array('news+in_story'\, '153083-1237414624'\, 'jpg')\;\naAd[3] = 'http://www.hillhomefurnishings.com/'\;\naAd[4] = '1'\;\naAd[6] = '1'\;\naAd[7] = 10\;\naAd[8] = 0\;\naAd[9] = 540\;\naAd[10] = 0\;\naAd[11] = 0\;\naAds[aAds.length] = aAd\;\n}\nif ((nAdsysTime >= 1243987200) && (nAdsysTime <= 1254614399)) {\naAd = new Array('news+in_story'\, '189447-1244060035'\, 'jpg')\;\naAd[3] = ''\;\naAd[4] = '0'\;\naAd[6] = '1'\;\naAd[7] = 1\;\naAd[8] = 0\;\naAd[9] = 540\;\naAd[10] = 0\;\naAd[11] = 0\;\naAds[aAds.length] = aAd\;\n}\nif ((nAdsysTime >= 1243987200) && (nAdsysTime <= 1254614399)) {\naAd = new Array('news+in_story'\, '189448-1244060512'\, 'jpg')\;\naAd[3] = ''\;\naAd[4] = '0'\;\naAd[6] = '1'\;\naAd[7] = 1\;\naAd[8] = 0\;\naAd[9] = 540\;\naAd[10] = 0\;\naAd[11] = 0\;\naAds[aAds.length] = aAd\;\n}\nif ((nAdsysTime >= 1243987200) && (nAdsysTime <= 1254614399)) {\naAd = new Array('news+in_story'\, '189449-1244060683'\, 'jpg')\;\naAd[3] = ''\;\naAd[4] = '0'\;\naAd[6] = '1'\;\naAd[7] = 1\;\naAd[8] = 0\;\naAd[9] = 540\;\naAd[10] = 0\;\naAd[11] = 0\;\naAds[aAds.length] = aAd\;\n}\nif ((nAdsysTime >= 1243987200) && (nAdsysTime <= 1254614399)) {\naAd = new Array('news+in_story'\, '189450-1244060805'\, 'jpg')\;\naAd[3] = ''\;\naAd[4] = '0'\;\naAd[6] = '1'\;\naAd[7] = 1\;\naAd[8] = 0\;\naAd[9] = 540\;\naAd[10] = 0\;\naAd[11] = 0\;\naAds[aAds.length] = aAd\;\n}\nif ((nAdsysTime >= 1248825600) && (nAdsysTime <= 1254355199)) {\naAd = new Array('news+in_story'\, '196946-1248905869'\, 'jpg')\;\naAd[3] = ''\;\naAd[4] = '0'\;\naAd[6] = '1'\;\naAd[7] = 10\;\naAd[8] = 0\;\naAd[9] = 540\;\naAd[10] = 0\;\naAd[11] = 0\;\naAds[aAds.length] = aAd\;\n}\nadsys_displayAd('http://adsys.townnews.com'\, 'beatricedailysun.com'\, aAds\, aCampaigns)\;\n\n// -->\n</script></div><p>To provide them with information concerning easement and wind development issues\, University of Nebraska-Lincoln Extension has scheduled an information meeting at 7 p.m. Monday at the Gage County Extension Office.<br /><br />Presentations planned include Extension Educator John Hay\, who has statewide responsibilities for energy education and has conducted workshops across the state\, and Saline County Extension Educator Randy Pryor\, who has done background educational work for the Saline development site and toured a number of developments.<br /><br />Landowners in Saline County formed the Saline County Wind Association and a board member will share information about their approach.<br /><br />&ldquo\;I have organized this information meeting to assist land owners in decisions they will need to make regarding potential wind development contracts\,&rdquo\; said Gage County Extension Educator Paul Hay. &ldquo\;It is open to all interested persons.&rdquo\;<br /><br />For more information\, call 402-223-1384.</p></div></div>
LOCATION:
UID:e.41.1354
SEQUENCE:3
DTSTAMP:20260426T011827Z
URL:https://business.beatricechamber.com/events/details/wind-energy-meeting-08-03-2009-1354
END:VEVENT

END:VCALENDAR
