BEGIN:VCALENDAR
VERSION:2.0
PRODID:-//ChamberMaster//Event Calendar 2.0//EN
METHOD:PUBLISH
X-PUBLISHED-TTL:P3D
REFRESH-INTERVAL:P3D
CALSCALE:GREGORIAN
BEGIN:VEVENT
DTSTART;VALUE=DATE:20100307
DTEND;VALUE=DATE:20100308
TRANSP:TRANSPARENT
X-MICROSOFT-CDO-ALLDAYEVENT:TRUE
SUMMARY:Winter Chicken BBQ\, American Legion
DESCRIPTION:Annual Winter Chicken BBQSunday\, March 7\, 201010:30 a.m. - 1:30 p.m. Benefit children and young programs of the American LegionBeatrice Legion Club\, 701 Dorsey Meal:  One-half chicken with all the trimmings & ice creamTickets:  $8 per personCarry-out meals available. Programs benefiting from BBQ:  American Legion Baseball\, Boys State\, Boy Scouts\, County Government Day\, Junior Law Cadet\, Legion Rifle Competition\, Miracle Mile Walk (Children's Hospital)\, Special Olympics\, Four Annual Scholarships\, Oratorical Contest\, annual Easter Egg Hunt. Sponsored by American Legion and Sons of the American Legion.Advanced tickets are available.
X-ALT-DESC;FMTTYPE=text/html:<div>Annual Winter Chicken BBQ</div><div>Sunday\, March 7\, 2010</div><div>10:30 a.m. - 1:30 p.m.</div><div>&nbsp\;</div><div>Benefit children and young programs of the American Legion</div><div>Beatrice Legion Club\, 701 Dorsey</div><div>&nbsp\;</div><div>Meal:&nbsp\; One-half chicken with all the trimmings &amp\; ice cream</div><div>Tickets:&nbsp\; $8 per person</div><div>Carry-out meals available.</div><div>&nbsp\;</div><div>Programs benefiting from BBQ:&nbsp\; American Legion Baseball\, Boys State\, Boy Scouts\, County Government Day\, Junior Law Cadet\, Legion Rifle Competition\, Miracle Mile Walk (Children's Hospital)\, Special Olympics\, Four Annual Scholarships\, Oratorical Contest\, annual Easter Egg Hunt.</div><div>&nbsp\;</div><div>Sponsored by American Legion and Sons of the American Legion.</div><div>Advanced tickets are available.</div>
LOCATION:
UID:e.41.1667
SEQUENCE:3
DTSTAMP:20260425T153156Z
URL:https://business.beatricechamber.com/events/details/winter-chicken-bbq-american-legion-03-07-2010-1667
END:VEVENT

END:VCALENDAR
